BEGIN:VCALENDAR
VERSION:2.0
PRODID:-//wp-events-plugin.com//6.6.3//EN
TZID:Europe/Rome
X-WR-TIMEZONE:Europe/Rome
BEGIN:VEVENT
UID:0-201@parrocchiepietropaolomartinotn.diocesitn.it
DTSTART;TZID=Europe/Rome;VALUE=DATE:20260529
DTEND;TZID=Europe/Rome;VALUE=DATE:20260530
DTSTAMP:20260419T090930Z
URL:https://parrocchiepietropaolomartinotn.diocesitn.it/events/rosario-del
 -venerdi-pellegrinaggio-madonna-delle-laste-ore-18-45-parrocchie-del-centr
 o/
SUMMARY:ROSARIO DEL VENERDI' - PELLEGRINAGGIO MADONNA DELLE LASTE - ORE 18.
 45  - Parrocchie del Centro
DESCRIPTION:
END:VEVENT
BEGIN:VTIMEZONE
TZID:Europe/Rome
X-LIC-LOCATION:Europe/Rome
BEGIN:DAYLIGHT
DTSTART:20260329T030000
TZOFFSETFROM:+0100
TZOFFSETTO:+0200
TZNAME:CEST
END:DAYLIGHT
END:VTIMEZONE
END:VCALENDAR