BEGIN:VCALENDAR
VERSION:2.0
PRODID:-//wp-events-plugin.com//6.6.3//EN
TZID:Europe/Rome
X-WR-TIMEZONE:Europe/Rome
BEGIN:VEVENT
UID:0-196@parrocchiepietropaolomartinotn.diocesitn.it
DTSTART;TZID=Europe/Rome;VALUE=DATE:20260524
DTEND;TZID=Europe/Rome;VALUE=DATE:20260525
DTSTAMP:20260419T090401Z
URL:https://parrocchiepietropaolomartinotn.diocesitn.it/events/pentecoste-
 presentazione-ragazzi-che-in-autunno-riceveranno-il-sacramento-della-cresi
 ma-s-pietro-ore-10-30/
SUMMARY:PENTECOSTE: presentazione ragazzi che in autunno riceveranno il Sac
 ramento della Cresima. S. Pietro - ore 10.30
DESCRIPTION:
END:VEVENT
BEGIN:VTIMEZONE
TZID:Europe/Rome
X-LIC-LOCATION:Europe/Rome
BEGIN:DAYLIGHT
DTSTART:20260329T030000
TZOFFSETFROM:+0100
TZOFFSETTO:+0200
TZNAME:CEST
END:DAYLIGHT
END:VTIMEZONE
END:VCALENDAR